BEGIN:VCALENDAR
VERSION:2.0
PRODID:icalendar-ruby
CALSCALE:GREGORIAN
METHOD:PUBLISH
BEGIN:VEVENT
DTSTAMP:20260426T030551Z
UID:7-234476@trinitypleasanton.org
DTSTART:20261018T170000Z
DTEND:20261018T180000Z
CLASS:PUBLIC
CREATED:20260425T181729
DESCRIPTION:Join us for worship in Word and Sacrament
LAST-MODIFIED:20260425T181729
LOCATION:
SUMMARY:Sunday Worship
URL;VALUE=URI:https://trinitypleasanton.org/events/sunday-worship/2026-10-1
 8
ATTACH;FILENAME=Standing.jpg;FMTTYPE=image/jpeg:https://dq5pwpg1q8ru0.cloud
 front.net/2024/01/19/07/08/57/d4fcf86e-de84-4854-801b-431a141367a4/Standin
 g.jpg
END:VEVENT
END:VCALENDAR
